BEGIN:VCALENDAR
VERSION:2.0
PRODID:-//www.northeastraces.com//northeastraces//EN
METHOD:PUBLISH
BEGIN:VEVENT
UID:2026-10-04-dalemain-penrith@www.northeastraces.com
DESCRIPTION:details=http://www.northeastraces.com/#2026-10-04-dalemain-penrith\, length=10K\, cd=?\, eods=?\, results=?
LOCATION:CA11 0HB (Dalemain (Penrith))
SUMMARY:Dalemain 10K Trail Run\, cd=?\, eods=?
DTSTART;VALUE=DATE:20261004
DTEND;VALUE=DATE:20261004
DTSTAMP:20260424T084726Z
URL:http://www.northeastraces.com/#2026-10-04-dalemain-penrith
END:VEVENT
END:VCALENDAR