BEGIN:VCALENDAR
VERSION:2.0
PRODID:-//www.northeastraces.com//northeastraces//EN
METHOD:PUBLISH
BEGIN:VEVENT
UID:2026-10-04-morley-leeds@www.northeastraces.com
DESCRIPTION:details=http://www.northeastraces.com/#2026-10-04-morley-leeds\, length=10K\, cd=?\, eods=no\, results=?
LOCATION:LS27 8DY (Morley (Leeds))
SUMMARY:Morley 10K at 0900\, cd=?\, eods=no
DTSTART:20261004T090000Z
DTEND:20261004T100000Z
DTSTAMP:20260422T125031Z
URL:http://www.northeastraces.com/#2026-10-04-morley-leeds
END:VEVENT
END:VCALENDAR