BEGIN:VCALENDAR
VERSION:2.0
PRODID:-//www.northeastraces.com//northeastraces//EN
METHOD:PUBLISH
BEGIN:VEVENT
UID:2026-10-04-bridlington@www.northeastraces.com
DESCRIPTION:details=http://www.northeastraces.com/#2026-10-04-bridlington\, length=half marathon and 10K and 5K\, cd=?\, eods=no\, results=?
LOCATION:YO15 2QQ (Bridlington)
SUMMARY:Yorkshire Coast Trail Series at 0930/0930/0940\, cd=?\, eods=no
DTSTART;VALUE=DATE:20261004
DTEND;VALUE=DATE:20261004
DTSTAMP:20260422T115224Z
URL:http://www.northeastraces.com/#2026-10-04-bridlington
END:VEVENT
END:VCALENDAR