BEGIN:VCALENDAR
VERSION:2.0
PRODID:-//www.northeastraces.com//northeastraces//EN
METHOD:PUBLISH
BEGIN:VEVENT
UID:2026-09-20-knaresborough@www.northeastraces.com
DESCRIPTION:details=http://www.northeastraces.com/#2026-09-20-knaresborough\, length=half marathon and 10K\, cd=?\, eods=?\, results=?
LOCATION:HG5 8DP (Knaresborough)
SUMMARY:Yorkshire Weekend Saunter Series in Knaresborough\, cd=?\, eods=?
DTSTART;VALUE=DATE:20260920
DTEND;VALUE=DATE:20260920
DTSTAMP:20260401T091416Z
URL:http://www.northeastraces.com/#2026-09-20-knaresborough
END:VEVENT
END:VCALENDAR