BEGIN:VCALENDAR
VERSION:2.0
PRODID:-//www.northeastraces.com//northeastraces//EN
METHOD:PUBLISH
BEGIN:VEVENT
UID:2026-09-19-rodley-leeds@www.northeastraces.com
DESCRIPTION:details=http://www.northeastraces.com/#2026-09-19-rodley-leeds\, length=marathon and 20M and half marathon and 10M and 10K\, cd=?\, eods=?\, results=?
LOCATION:LS13 1HP (Rodley (Leeds))
SUMMARY:Oktoberfest\, cd=?\, eods=?
DTSTART;VALUE=DATE:20260919
DTEND;VALUE=DATE:20260919
DTSTAMP:20260401T085349Z
URL:http://www.northeastraces.com/#2026-09-19-rodley-leeds
END:VEVENT
END:VCALENDAR