BEGIN:VCALENDAR
VERSION:2.0
PRODID:-//www.northeastraces.com//northeastraces//EN
METHOD:PUBLISH
BEGIN:VEVENT
UID:2026-09-05-hornsea@www.northeastraces.com
DESCRIPTION:details=http://www.northeastraces.com/#2026-09-05-hornsea\, length=marathon and 20M and half marathon and 10M and 10K\, cd=?\, eods=?\, results=?
LOCATION:HU18 1QA (Hornsea)
SUMMARY:Hip Hip Hooray it's Hornsea\, cd=?\, eods=?
DTSTART;VALUE=DATE:20260905
DTEND;VALUE=DATE:20260905
DTSTAMP:20260401T083752Z
URL:http://www.northeastraces.com/#2026-09-05-hornsea
END:VEVENT
END:VCALENDAR