BEGIN:VCALENDAR
VERSION:2.0
PRODID:-//www.northeastraces.com//northeastraces//EN
METHOD:PUBLISH
BEGIN:VEVENT
UID:2026-09-27-sheffield-10k@www.northeastraces.com
DESCRIPTION:details=http://www.northeastraces.com/#2026-09-27-sheffield-10k\, length=10K\, cd=?\, eods=?\, results=?
LOCATION:S1 1DA (Sheffield)
SUMMARY:Sheffield 10K\, cd=?\, eods=?
DTSTART;VALUE=DATE:20260927
DTEND;VALUE=DATE:20260927
DTSTAMP:20260401T081348Z
URL:http://www.northeastraces.com/#2026-09-27-sheffield-10k
END:VEVENT
END:VCALENDAR