BEGIN:VCALENDAR
VERSION:2.0
PRODID:-//www.northeastraces.com//northeastraces//EN
METHOD:PUBLISH
BEGIN:VEVENT
UID:2026-09-26-harewood-house@www.northeastraces.com
DESCRIPTION:details=http://www.northeastraces.com/#2026-09-26-harewood-house\, length=15M and 10M and 5M\, cd=?\, eods=?\, results=?
LOCATION:LS17 9LG (Harewood House)
SUMMARY:Harewood Wild Autumn Trail Runs\, cd=?\, eods=?
DTSTART;VALUE=DATE:20260926
DTEND;VALUE=DATE:20260926
DTSTAMP:20260401T075303Z
URL:http://www.northeastraces.com/#2026-09-26-harewood-house
END:VEVENT
END:VCALENDAR