BEGIN:VCALENDAR
VERSION:2.0
PRODID:-//www.northeastraces.com//northeastraces//EN
METHOD:PUBLISH
BEGIN:VEVENT
UID:2026-09-20-raby-castle@www.northeastraces.com
DESCRIPTION:details=http://www.northeastraces.com/#2026-09-20-raby-castle\, length=half marathon and 10K and 5K\, cd=?\, eods=?\, results=?
LOCATION:DL2 3AH (Raby Castle)
SUMMARY:Raby Castle Trail Runs - 5K/10K/Half\, cd=?\, eods=?
DTSTART;VALUE=DATE:20260920
DTEND;VALUE=DATE:20260920
DTSTAMP:20260401T074019Z
URL:http://www.northeastraces.com/#2026-09-20-raby-castle
END:VEVENT
END:VCALENDAR