BEGIN:VCALENDAR
VERSION:2.0
PRODID:-//www.northeastraces.com//northeastraces//EN
METHOD:PUBLISH
BEGIN:VEVENT
UID:2026-09-20-hamsterley@www.northeastraces.com
DESCRIPTION:details=http://www.northeastraces.com/#2026-09-20-hamsterley\, length=half marathon and 10K\, cd=?\, eods=?\, results=?
LOCATION:DL13 3NL (Hamsterley)
SUMMARY:RT Trails Hamsterley Forest 10K and Half Marathon\, cd=?\, eods=?
DTSTART;VALUE=DATE:20260920
DTEND;VALUE=DATE:20260920
DTSTAMP:20260331T051904Z
URL:http://www.northeastraces.com/#2026-09-20-hamsterley
END:VEVENT
END:VCALENDAR