BEGIN:VCALENDAR
VERSION:2.0
PRODID:-//www.northeastraces.com//northeastraces//EN
METHOD:PUBLISH
BEGIN:VEVENT
UID:2026-09-05-cockermouth@www.northeastraces.com
DESCRIPTION:details=http://www.northeastraces.com/#2026-09-05-cockermouth\, length=10M\, cd=?\, eods=yes\, results=?
LOCATION:CA13 9SJ (Cockermouth)
SUMMARY:One 10 at 1100\, cd=?\, eods=yes
DTSTART:20260905T110000Z
DTEND:20260905T120000Z
DTSTAMP:20260330T133830Z
URL:http://www.northeastraces.com/#2026-09-05-cockermouth
END:VEVENT
END:VCALENDAR