BEGIN:VCALENDAR
VERSION:2.0
PRODID:-//www.northeastraces.com//northeastraces//EN
METHOD:PUBLISH
BEGIN:VEVENT
UID:2026-09-09-carlisle@www.northeastraces.com
DESCRIPTION:details=http://www.northeastraces.com/#2026-09-09-carlisle\, length=5K\, cd=?\, eods=?\, results=?
LOCATION:CA3 8XL (Carlisle)
SUMMARY:Castle 5K Series - Race 5 at 1900\, cd=?\, eods=?
DTSTART:20260909T190000Z
DTEND:20260909T200000Z
DTSTAMP:20260330T132837Z
URL:http://www.northeastraces.com/#2026-09-09-carlisle
END:VEVENT
END:VCALENDAR