BEGIN:VCALENDAR
VERSION:2.0
PRODID:-//www.northeastraces.com//northeastraces//EN
METHOD:PUBLISH
BEGIN:VEVENT
UID:2026-09-27-wallsend@www.northeastraces.com
DESCRIPTION:details=http://www.northeastraces.com/#2026-09-27-wallsend\, length=10K\, cd=?\, eods=?\, results=?
LOCATION:NE12 9SS (Wallsend)
SUMMARY:Rising Sun Country Park 10K Trail Run\, cd=?\, eods=?
DTSTART;VALUE=DATE:20260927
DTEND;VALUE=DATE:20260927
DTSTAMP:20260330T130343Z
URL:http://www.northeastraces.com/#2026-09-27-wallsend
END:VEVENT
END:VCALENDAR