BEGIN:VCALENDAR
VERSION:2.0
PRODID:-//www.northeastraces.com//northeastraces//EN
METHOD:PUBLISH
BEGIN:VEVENT
UID:2026-09-27-wistow-selby@www.northeastraces.com
DESCRIPTION:details=http://www.northeastraces.com/#2026-09-27-wistow-selby\, length=10K\, cd=?\, eods=?\, results=?
LOCATION:YO8 3YP (Wistow (Selby))
SUMMARY:Wistow 10K\, cd=?\, eods=?
DTSTART;VALUE=DATE:20260927
DTEND;VALUE=DATE:20260927
DTSTAMP:20260403T095143Z
URL:http://www.northeastraces.com/#2026-09-27-wistow-selby
END:VEVENT
END:VCALENDAR