BEGIN:VCALENDAR
VERSION:2.0
PRODID:-//www.northeastraces.com//northeastraces//EN
METHOD:PUBLISH
BEGIN:VEVENT
UID:2026-09-27-sutton-on-the-forest-york@www.northeastraces.com
DESCRIPTION:details=http://www.northeastraces.com/#2026-09-27-sutton-on-the-forest-york\, length=10K\, cd=?\, eods=?\, results=?
LOCATION:YO61 1DW (Sutton on the Forest (York))
SUMMARY:Sutton Park 10K at 1100\, cd=?\, eods=?
DTSTART:20260927T110000Z
DTEND:20260927T120000Z
DTSTAMP:20260329T140740Z
URL:http://www.northeastraces.com/#2026-09-27-sutton-on-the-forest-york
END:VEVENT
END:VCALENDAR