BEGIN:VCALENDAR
VERSION:2.0
PRODID:-//www.northeastraces.com//northeastraces//EN
METHOD:PUBLISH
BEGIN:VEVENT
UID:2026-09-27-mirfield-kirklees@www.northeastraces.com
DESCRIPTION:details=http://www.northeastraces.com/#2026-09-27-mirfield-kirklees\, length=10K\, cd=?\, eods=?\, results=?
LOCATION:WF14 8PR (Mirfield (Kirklees))
SUMMARY:Hopton 10K at 1000\, cd=?\, eods=?
DTSTART:20260927T100000Z
DTEND:20260927T110000Z
DTSTAMP:20260329T092042Z
URL:http://www.northeastraces.com/#2026-09-27-mirfield-kirklees
END:VEVENT
END:VCALENDAR