BEGIN:VCALENDAR
VERSION:2.0
PRODID:-//www.northeastraces.com//northeastraces//EN
METHOD:PUBLISH
BEGIN:VEVENT
UID:2026-09-27-middlesbrough@www.northeastraces.com
DESCRIPTION:details=http://www.northeastraces.com/#2026-09-27-middlesbrough\, length=10K\, cd=?\, eods=?\, results=?
LOCATION:TS3 0SR (Middlesbrough)
SUMMARY:Ormesby10 - September at 0900\, cd=?\, eods=?
DTSTART:20260927T090000Z
DTEND:20260927T100000Z
DTSTAMP:20260329T091102Z
URL:http://www.northeastraces.com/#2026-09-27-middlesbrough
END:VEVENT
END:VCALENDAR