BEGIN:VCALENDAR
VERSION:2.0
PRODID:-//www.northeastraces.com//northeastraces//EN
METHOD:PUBLISH
BEGIN:VEVENT
UID:2026-09-27-matfen-northumberland@www.northeastraces.com
DESCRIPTION:details=http://www.northeastraces.com/#2026-09-27-matfen-northumberland\, length=10M\, cd=?\, eods=?\, results=?
LOCATION:NE20 0RP (Matfen (Northumberland))
SUMMARY:Tynedale Jelly Tea 10M\, cd=?\, eods=?
DTSTART;VALUE=DATE:20260927
DTEND;VALUE=DATE:20260927
DTSTAMP:20260329T091102Z
URL:http://www.northeastraces.com/#2026-09-27-matfen-northumberland
END:VEVENT
END:VCALENDAR