BEGIN:VCALENDAR
VERSION:2.0
PRODID:-//www.northeastraces.com//northeastraces//EN
METHOD:PUBLISH
BEGIN:VEVENT
UID:2026-09-27-knaresborough@www.northeastraces.com
DESCRIPTION:details=http://www.northeastraces.com/#2026-09-27-knaresborough\, length=5M\, cd=?\, eods=yes\, results=?
LOCATION:HG5 8EP (Knaresborough)
SUMMARY:Knaresborough Crag Rat Run at 1100\, cd=?\, eods=yes
DTSTART:20260927T110000Z
DTEND:20260927T120000Z
DTSTAMP:20260329T085910Z
URL:http://www.northeastraces.com/#2026-09-27-knaresborough
END:VEVENT
END:VCALENDAR