BEGIN:VCALENDAR
VERSION:2.0
PRODID:-//www.northeastraces.com//northeastraces//EN
METHOD:PUBLISH
BEGIN:VEVENT
UID:2026-09-27-bishop-burton-beverley@www.northeastraces.com
DESCRIPTION:details=http://www.northeastraces.com/#2026-09-27-bishop-burton-beverley\, length=10K\, cd=?\, eods=?\, results=?
LOCATION:HU17 8QG (Bishop Burton (Beverley))
SUMMARY:Farm Run 10K at 1000\, cd=?\, eods=?
DTSTART:20260927T100000Z
DTEND:20260927T110000Z
DTSTAMP:20260329T083223Z
URL:http://www.northeastraces.com/#2026-09-27-bishop-burton-beverley
END:VEVENT
END:VCALENDAR