BEGIN:VCALENDAR
VERSION:2.0
PRODID:-//www.northeastraces.com//northeastraces//EN
METHOD:PUBLISH
BEGIN:VEVENT
UID:2026-09-26-catterick@www.northeastraces.com
DESCRIPTION:details=http://www.northeastraces.com/#2026-09-26-catterick\, length=10M\, cd=?\, eods=yes\, results=?
LOCATION:DL9 3PS (Catterick)
SUMMARY:Paras' 10 at 1100\, cd=?\, eods=yes
DTSTART:20260926T110000Z
DTEND:20260926T120000Z
DTSTAMP:20260329T081618Z
URL:http://www.northeastraces.com/#2026-09-26-catterick
END:VEVENT
END:VCALENDAR