BEGIN:VCALENDAR
VERSION:2.0
PRODID:-//www.northeastraces.com//northeastraces//EN
METHOD:PUBLISH
BEGIN:VEVENT
UID:2026-09-26-belford-northumberland@www.northeastraces.com
DESCRIPTION:details=http://www.northeastraces.com/#2026-09-26-belford-northumberland\, length=9M and 4M\, cd=?\, eods=?\, results=?
LOCATION:NE70 7ER (Belford (Northumberland))
SUMMARY:Belford Show - Fun Run\, cd=?\, eods=?
DTSTART;VALUE=DATE:20260926
DTEND;VALUE=DATE:20260926
DTSTAMP:20260402T073307Z
URL:http://www.northeastraces.com/#2026-09-26-belford-northumberland
END:VEVENT
END:VCALENDAR