BEGIN:VCALENDAR
VERSION:2.0
PRODID:-//www.northeastraces.com//northeastraces//EN
METHOD:PUBLISH
BEGIN:VEVENT
UID:2026-09-23-adel-leeds@www.northeastraces.com
DESCRIPTION:details=http://www.northeastraces.com/#2026-09-23-adel-leeds\, length=5K\, cd=?\, eods=?\, results=?
LOCATION:LS16 8NA (Adel (Leeds))
SUMMARY:Leeds 5K Series - Race 8 - September at 1930\, cd=?\, eods=?
DTSTART:20260923T193000Z
DTEND:20260923T203000Z
DTSTAMP:20260329T131116Z
URL:http://www.northeastraces.com/#2026-09-23-adel-leeds
END:VEVENT
END:VCALENDAR