BEGIN:VCALENDAR
VERSION:2.0
PRODID:-//www.northeastraces.com//northeastraces//EN
METHOD:PUBLISH
BEGIN:VEVENT
UID:2026-09-20-stainland-halifax@www.northeastraces.com
DESCRIPTION:details=http://www.northeastraces.com/#2026-09-20-stainland-halifax\, length=10K\, cd=?\, eods=?\, results=?
LOCATION:HX4 9HF (Stainland (Halifax))
SUMMARY:Stainland Trail 10K\, cd=?\, eods=?
DTSTART;VALUE=DATE:20260920
DTEND;VALUE=DATE:20260920
DTSTAMP:20260329T060636Z
URL:http://www.northeastraces.com/#2026-09-20-stainland-halifax
END:VEVENT
END:VCALENDAR