BEGIN:VCALENDAR
VERSION:2.0
PRODID:-//www.northeastraces.com//northeastraces//EN
METHOD:PUBLISH
BEGIN:VEVENT
UID:2026-09-27-redcar@www.northeastraces.com
DESCRIPTION:details=http://www.northeastraces.com/#2026-09-27-redcar\, length=half marathon and 10K and 5K\, cd=?\, eods=?\, results=?
LOCATION:TS10 3AX (Redcar)
SUMMARY:Redcar Running Festival Half/10K at 1000/0910\, cd=?\, eods=?
DTSTART;VALUE=DATE:20260927
DTEND;VALUE=DATE:20260927
DTSTAMP:20260328T153517Z
URL:http://www.northeastraces.com/#2026-09-27-redcar
END:VEVENT
END:VCALENDAR