BEGIN:VCALENDAR
VERSION:2.0
PRODID:-//www.northeastraces.com//northeastraces//EN
METHOD:PUBLISH
BEGIN:VEVENT
UID:2026-09-20-malton@www.northeastraces.com
DESCRIPTION:details=http://www.northeastraces.com/#2026-09-20-malton\, length=10K\, cd=?\, eods=?\, results=?
LOCATION:YO17 7LX (Malton)
SUMMARY:Malton 10K - 'Le Sans Arret'\, cd=?\, eods=?
DTSTART;VALUE=DATE:20260920
DTEND;VALUE=DATE:20260920
DTSTAMP:20260328T152133Z
URL:http://www.northeastraces.com/#2026-09-20-malton
END:VEVENT
END:VCALENDAR