BEGIN:VCALENDAR
VERSION:2.0
PRODID:-//www.northeastraces.com//northeastraces//EN
METHOD:PUBLISH
BEGIN:VEVENT
UID:2026-09-20-kirkstall-leeds@www.northeastraces.com
DESCRIPTION:details=http://www.northeastraces.com/#2026-09-20-kirkstall-leeds\, length=7M\, cd=?\, eods=no\, results=?
LOCATION:LS5 3EH (Kirkstall (Leeds))
SUMMARY:Kirkstall Abbey 7 at 1000\, cd=?\, eods=no
DTSTART:20260920T100000Z
DTEND:20260920T110000Z
DTSTAMP:20260328T150434Z
URL:http://www.northeastraces.com/#2026-09-20-kirkstall-leeds
END:VEVENT
END:VCALENDAR