BEGIN:VCALENDAR
VERSION:2.0
PRODID:-//www.northeastraces.com//northeastraces//EN
METHOD:PUBLISH
BEGIN:VEVENT
UID:2026-09-20-keswick@www.northeastraces.com
DESCRIPTION:details=http://www.northeastraces.com/#2026-09-20-keswick\, length=half marathon\, cd=?\, eods=see_comments\, results=?
LOCATION:CA12 5EG (Keswick)
SUMMARY:Keswick Half Marathon at 1100\, cd=?\, eods=see_comments
DTSTART:20260920T110000Z
DTEND:20260920T120000Z
DTSTAMP:20260328T144119Z
URL:http://www.northeastraces.com/#2026-09-20-keswick
END:VEVENT
END:VCALENDAR