BEGIN:VCALENDAR
VERSION:2.0
PRODID:-//www.northeastraces.com//northeastraces//EN
METHOD:PUBLISH
BEGIN:VEVENT
UID:2026-09-20-ingram-northumberland@www.northeastraces.com
DESCRIPTION:details=http://www.northeastraces.com/#2026-09-20-ingram-northumberland\, length=9K\, cd=?\, eods=?\, results=?
LOCATION:NE66 4LT (Ingram (Northumberland))
SUMMARY:Anne Allan trail run\, cd=?\, eods=?
DTSTART;VALUE=DATE:20260920
DTEND;VALUE=DATE:20260920
DTSTAMP:20260328T142744Z
URL:http://www.northeastraces.com/#2026-09-20-ingram-northumberland
END:VEVENT
END:VCALENDAR