BEGIN:VCALENDAR
VERSION:2.0
PRODID:-//www.northeastraces.com//northeastraces//EN
METHOD:PUBLISH
BEGIN:VEVENT
UID:2026-09-20-eaglescliffe@www.northeastraces.com
DESCRIPTION:details=http://www.northeastraces.com/#2026-09-20-eaglescliffe\, length=10M and 5M\, cd=?\, eods=?\, results=?
LOCATION:TS16 0BU (Eaglescliffe)
SUMMARY:Locomotion Trail Runs - 200th Anniversary S and DR\, cd=?\, eods=?
DTSTART;VALUE=DATE:20260920
DTEND;VALUE=DATE:20260920
DTSTAMP:20260328T142744Z
URL:http://www.northeastraces.com/#2026-09-20-eaglescliffe
END:VEVENT
END:VCALENDAR