BEGIN:VCALENDAR
VERSION:2.0
PRODID:-//www.northeastraces.com//northeastraces//EN
METHOD:PUBLISH
BEGIN:VEVENT
UID:2026-09-20-carlisle@www.northeastraces.com
DESCRIPTION:details=http://www.northeastraces.com/#2026-09-20-carlisle\, length=10K\, cd=?\, eods=?\, results=?
LOCATION:CA3 8XL (Carlisle)
SUMMARY:Sport in Action 10K at 1000\, cd=?\, eods=?
DTSTART:20260920T100000Z
DTEND:20260920T110000Z
DTSTAMP:20260328T141128Z
URL:http://www.northeastraces.com/#2026-09-20-carlisle
END:VEVENT
END:VCALENDAR