BEGIN:VCALENDAR
VERSION:2.0
PRODID:-//www.northeastraces.com//northeastraces//EN
METHOD:PUBLISH
BEGIN:VEVENT
UID:2026-09-20-blubberhouses@www.northeastraces.com
DESCRIPTION:details=http://www.northeastraces.com/#2026-09-20-blubberhouses\, length=10K and 5K\, cd=?\, eods=yes\, results=?
LOCATION:LS21 2NP (Blubberhouses)
SUMMARY:Run for WaterAid at 1000\, cd=?\, eods=yes
DTSTART:20260920T100000Z
DTEND:20260920T110000Z
DTSTAMP:20260328T135141Z
URL:http://www.northeastraces.com/#2026-09-20-blubberhouses
END:VEVENT
END:VCALENDAR