BEGIN:VCALENDAR
VERSION:2.0
PRODID:-//www.northeastraces.com//northeastraces//EN
METHOD:PUBLISH
BEGIN:VEVENT
UID:2026-09-20-bishop-monkton-ripon@www.northeastraces.com
DESCRIPTION:details=http://www.northeastraces.com/#2026-09-20-bishop-monkton-ripon\, length=10K\, cd=?\, eods=no\, results=?
LOCATION:HG3 3QW (Bishop Monkton (Ripon))
SUMMARY:Beck Busters at 1100\, cd=?\, eods=no
DTSTART:20260920T110000Z
DTEND:20260920T120000Z
DTSTAMP:20260328T131521Z
URL:http://www.northeastraces.com/#2026-09-20-bishop-monkton-ripon
END:VEVENT
END:VCALENDAR