BEGIN:VCALENDAR
VERSION:2.0
PRODID:-//www.northeastraces.com//northeastraces//EN
METHOD:PUBLISH
BEGIN:VEVENT
UID:2026-09-19-snape-bedale@www.northeastraces.com
DESCRIPTION:details=http://www.northeastraces.com/#2026-09-19-snape-bedale\, length=10K and 5K\, cd=?\, eods=?\, results=?
LOCATION:DL8 2TR (Snape (Bedale))
SUMMARY:Snape 10K and 5K fun run\, cd=?\, eods=?
DTSTART;VALUE=DATE:20260919
DTEND;VALUE=DATE:20260919
DTSTAMP:20260328T130412Z
URL:http://www.northeastraces.com/#2026-09-19-snape-bedale
END:VEVENT
END:VCALENDAR