BEGIN:VCALENDAR
VERSION:2.0
PRODID:-//www.northeastraces.com//northeastraces//EN
METHOD:PUBLISH
BEGIN:VEVENT
UID:2026-09-06-wetherby@www.northeastraces.com
DESCRIPTION:details=http://www.northeastraces.com/#2026-09-06-wetherby\, length=10K\, cd=?\, eods=no\, results=?
LOCATION:LS22 5EJ (Wetherby)
SUMMARY:Wetherby 10K at 1400\, cd=?\, eods=no
DTSTART:20260906T140000Z
DTEND:20260906T150000Z
DTSTAMP:20260328T111554Z
URL:http://www.northeastraces.com/#2026-09-06-wetherby
END:VEVENT
END:VCALENDAR