BEGIN:VCALENDAR
VERSION:2.0
PRODID:-//www.northeastraces.com//northeastraces//EN
METHOD:PUBLISH
BEGIN:VEVENT
UID:2026-09-13-temple-sowerby-penrith@www.northeastraces.com
DESCRIPTION:details=http://www.northeastraces.com/#2026-09-13-temple-sowerby-penrith\, length=10K\, cd=?\, eods=?\, results=?
LOCATION:CA10 1SP (Temple Sowerby (Penrith))
SUMMARY:Acorn Bank 10K\, cd=?\, eods=?
DTSTART;VALUE=DATE:20260913
DTEND;VALUE=DATE:20260913
DTSTAMP:20260328T110913Z
URL:http://www.northeastraces.com/#2026-09-13-temple-sowerby-penrith
END:VEVENT
END:VCALENDAR