BEGIN:VCALENDAR
VERSION:2.0
PRODID:-//www.northeastraces.com//northeastraces//EN
METHOD:PUBLISH
BEGIN:VEVENT
UID:2026-09-13-stanley@www.northeastraces.com
DESCRIPTION:details=http://www.northeastraces.com/#2026-09-13-stanley\, length=5M\, cd=?\, eods=?\, results=?
LOCATION:DH9 0LH (Stanley)
SUMMARY:Hellhole Trail Race\, cd=?\, eods=?
DTSTART;VALUE=DATE:20260913
DTEND;VALUE=DATE:20260913
DTSTAMP:20260328T110913Z
URL:http://www.northeastraces.com/#2026-09-13-stanley
END:VEVENT
END:VCALENDAR