BEGIN:VCALENDAR
VERSION:2.0
PRODID:-//www.northeastraces.com//northeastraces//EN
METHOD:PUBLISH
BEGIN:VEVENT
UID:2026-09-20-sedgefield@www.northeastraces.com
DESCRIPTION:details=http://www.northeastraces.com/#2026-09-20-sedgefield\, length=10K\, cd=?\, eods=?\, results=?
LOCATION:TS21 2DN (Sedgefield)
SUMMARY:Sedgefield Serpentine Race\, cd=?\, eods=?
DTSTART;VALUE=DATE:20260920
DTEND;VALUE=DATE:20260920
DTSTAMP:20260330T124439Z
URL:http://www.northeastraces.com/#2026-09-20-sedgefield
END:VEVENT
END:VCALENDAR