BEGIN:VCALENDAR
VERSION:2.0
PRODID:-//www.northeastraces.com//northeastraces//EN
METHOD:PUBLISH
BEGIN:VEVENT
UID:2026-09-13-marsden@www.northeastraces.com
DESCRIPTION:details=http://www.northeastraces.com/#2026-09-13-marsden\, length=6M\, cd=?\, eods=yes\, results=?
LOCATION:HD7 6LS (Marsden)
SUMMARY:Darkwood Demon at 1000\, cd=?\, eods=yes
DTSTART:20260913T100000Z
DTEND:20260913T110000Z
DTSTAMP:20260328T102850Z
URL:http://www.northeastraces.com/#2026-09-13-marsden
END:VEVENT
END:VCALENDAR