BEGIN:VCALENDAR
VERSION:2.0
PRODID:-//www.northeastraces.com//northeastraces//EN
METHOD:PUBLISH
BEGIN:VEVENT
UID:2026-09-20-dumfries@www.northeastraces.com
DESCRIPTION:details=http://www.northeastraces.com/#2026-09-20-dumfries\, length=half marathon\, cd=?\, eods=?\, results=?
LOCATION:DG1 4FD (Dumfries)
SUMMARY:Dumfries Half Marathon at 1100\, cd=?\, eods=?
DTSTART:20260920T110000Z
DTEND:20260920T120000Z
DTSTAMP:20260328T101802Z
URL:http://www.northeastraces.com/#2026-09-20-dumfries
END:VEVENT
END:VCALENDAR