BEGIN:VCALENDAR
VERSION:2.0
PRODID:-//www.northeastraces.com//northeastraces//EN
METHOD:PUBLISH
BEGIN:VEVENT
UID:2026-08-05-darlington-dts@www.northeastraces.com
DESCRIPTION:details=http://www.northeastraces.com/#2026-08-05-darlington-dts\, length=5K\, cd=?\, eods=?\, results=?
LOCATION:DL2 2NG (Darlington)
SUMMARY:Darlington Trail 10K Series Run 4 - Low Conniscliffe 10K at 1900\, cd=?\, eods=?
DTSTART:20260805T190000Z
DTEND:20260805T200000Z
DTSTAMP:20260328T100147Z
URL:http://www.northeastraces.com/#2026-08-05-darlington-dts
END:VEVENT
END:VCALENDAR