BEGIN:VCALENDAR
VERSION:2.0
PRODID:-//www.northeastraces.com//northeastraces//EN
METHOD:PUBLISH
BEGIN:VEVENT
UID:2026-07-15-darlington-dts@www.northeastraces.com
DESCRIPTION:details=http://www.northeastraces.com/#2026-07-15-darlington-dts\, length=10K\, cd=?\, eods=?\, results=?
LOCATION:DL1 2BG (Darlington)
SUMMARY:Darlington Trail 10K Series Run 3 - Riverside 10K at 1900\, cd=?\, eods=?
DTSTART:20260715T190000Z
DTEND:20260715T200000Z
DTSTAMP:20260328T100147Z
URL:http://www.northeastraces.com/#2026-07-15-darlington-dts
END:VEVENT
END:VCALENDAR