BEGIN:VCALENDAR
VERSION:2.0
PRODID:-//www.northeastraces.com//northeastraces//EN
METHOD:PUBLISH
BEGIN:VEVENT
UID:2026-09-13-burton-pidsea-hull@www.northeastraces.com
DESCRIPTION:details=http://www.northeastraces.com/#2026-09-13-burton-pidsea-hull\, length=10K\, cd=?\, eods=yes\, results=?
LOCATION:HU12 9AN (Burton Pidsea (Hull))
SUMMARY:Burton Pidsea 10K at 1100\, cd=?\, eods=yes
DTSTART:20260913T110000Z
DTEND:20260913T120000Z
DTSTAMP:20260328T092416Z
URL:http://www.northeastraces.com/#2026-09-13-burton-pidsea-hull
END:VEVENT
END:VCALENDAR