BEGIN:VCALENDAR
VERSION:2.0
PRODID:-//www.northeastraces.com//northeastraces//EN
METHOD:PUBLISH
BEGIN:VEVENT
UID:2026-09-12-hunmanby-grange-filey@www.northeastraces.com
DESCRIPTION:details=http://www.northeastraces.com/#2026-09-12-hunmanby-grange-filey\, length=10K and 5K\, cd=?\, eods=?\, results=?
LOCATION:YO25 3HS (Hunmanby Grange (Filey))
SUMMARY:Wold Top Trail 10K and 5K\, cd=?\, eods=?
DTSTART;VALUE=DATE:20260912
DTEND;VALUE=DATE:20260912
DTSTAMP:20260328T092041Z
URL:http://www.northeastraces.com/#2026-09-12-hunmanby-grange-filey
END:VEVENT
END:VCALENDAR