BEGIN:VCALENDAR
VERSION:2.0
PRODID:-//www.northeastraces.com//northeastraces//EN
METHOD:PUBLISH
BEGIN:VEVENT
UID:2026-10-17-great-langdale@www.northeastraces.com
DESCRIPTION:details=http://www.northeastraces.com/#2026-10-17-great-langdale\, length=marathon and half marathon\, cd=?\, eods=?\, results=?
LOCATION:LA22 9JU (Great Langdale)
SUMMARY:Langdale Marathon and Half\, cd=?\, eods=?
DTSTART;VALUE=DATE:20261017
DTEND;VALUE=DATE:20261017
DTSTAMP:20260328T085843Z
URL:http://www.northeastraces.com/#2026-10-17-great-langdale
END:VEVENT
END:VCALENDAR