BEGIN:VCALENDAR
VERSION:2.0
PRODID:-//www.northeastraces.com//northeastraces//EN
METHOD:PUBLISH
BEGIN:VEVENT
UID:2026-09-12-crosby-garrett-kirkby-stephen@www.northeastraces.com
DESCRIPTION:details=http://www.northeastraces.com/#2026-09-12-crosby-garrett-kirkby-stephen\, length=13K\, cd=?\, eods=yes\, results=?
LOCATION:CA17 4PW (Crosby Garrett (Kirkby Stephen))
SUMMARY:Great Westmorland Trail Race at 1430\, cd=?\, eods=yes
DTSTART:20260912T143000Z
DTEND:20260912T153000Z
DTSTAMP:20260416T065616Z
URL:http://www.northeastraces.com/#2026-09-12-crosby-garrett-kirkby-stephen
END:VEVENT
END:VCALENDAR