BEGIN:VCALENDAR
VERSION:2.0
PRODID:-//www.northeastraces.com//northeastraces//EN
METHOD:PUBLISH
BEGIN:VEVENT
UID:2026-09-12-castleton-guisborough@www.northeastraces.com
DESCRIPTION:details=http://www.northeastraces.com/#2026-09-12-castleton-guisborough\, length=6M\, cd=?\, eods=?\, results=?
LOCATION:YO21 2EX (Castleton (Guisborough))
SUMMARY:Castleton Show Run\, cd=?\, eods=?
DTSTART;VALUE=DATE:20260912
DTEND;VALUE=DATE:20260912
DTSTAMP:20260328T084639Z
URL:http://www.northeastraces.com/#2026-09-12-castleton-guisborough
END:VEVENT
END:VCALENDAR