BEGIN:VCALENDAR
VERSION:2.0
PRODID:-//www.northeastraces.com//northeastraces//EN
METHOD:PUBLISH
BEGIN:VEVENT
UID:2026-09-11-york@www.northeastraces.com
DESCRIPTION:details=http://www.northeastraces.com/#2026-09-11-york\, length=5K\, cd=?\, eods=?\, results=?
LOCATION:YO10 5FG (York)
SUMMARY:York 5K Series - Race 8 - September at 1930\, cd=?\, eods=?
DTSTART:20260911T193000Z
DTEND:20260911T203000Z
DTSTAMP:20260328T084020Z
URL:http://www.northeastraces.com/#2026-09-11-york
END:VEVENT
END:VCALENDAR