BEGIN:VCALENDAR
VERSION:2.0
PRODID:-//www.northeastraces.com//northeastraces//EN
METHOD:PUBLISH
BEGIN:VEVENT
UID:2026-09-09-ulverston@www.northeastraces.com
DESCRIPTION:details=http://www.northeastraces.com/#2026-09-09-ulverston\, length=5K\, cd=?\, eods=yes\, results=?
LOCATION:LA12 9DR (Ulverston)
SUMMARY:Ulverston Autumn Monument 5K at 1845\, cd=?\, eods=yes
DTSTART:20260909T184500Z
DTEND:20260909T194500Z
DTSTAMP:20260328T074341Z
URL:http://www.northeastraces.com/#2026-09-09-ulverston
END:VEVENT
END:VCALENDAR