BEGIN:VCALENDAR
VERSION:2.0
PRODID:-//www.northeastraces.com//northeastraces//EN
METHOD:PUBLISH
BEGIN:VEVENT
UID:2026-09-13-wistow-selby@www.northeastraces.com
DESCRIPTION:details=http://www.northeastraces.com/#2026-09-13-wistow-selby\, length=half marathon and 10K\, cd=?\, eods=?\, results=?
LOCATION:YO8 3QZ (Wistow (Selby))
SUMMARY:Vale of York Half Marathon and 10K at 0930/0950ish\, cd=?\, eods=?
DTSTART;VALUE=DATE:20260913
DTEND;VALUE=DATE:20260913
DTSTAMP:20260329T060636Z
URL:http://www.northeastraces.com/#2026-09-13-wistow-selby
END:VEVENT
END:VCALENDAR